BEGIN:VCALENDAR
VERSION:2.0
PRODID:-//中國國情研習促進會（香港） - ECPv5.8.2//NONSGML v1.0//EN
CALSCALE:GREGORIAN
METHOD:PUBLISH
X-WR-CALNAME:中國國情研習促進會（香港）
X-ORIGINAL-URL:http://actshk.org
X-WR-CALDESC:Events for 中國國情研習促進會（香港）
BEGIN:VTIMEZONE
TZID:Asia/Hong_Kong
BEGIN:STANDARD
TZOFFSETFROM:+0800
TZOFFSETTO:+0800
TZNAME:HKT
DTSTART:20160101T000000
END:STANDARD
END:VTIMEZONE
BEGIN:VEVENT
DTSTART;TZID=Asia/Hong_Kong:20160526T080000
DTEND;TZID=Asia/Hong_Kong:20160531T170000
DTSTAMP:20260426T051342
CREATED:20160804T091117Z
LAST-MODIFIED:20160819T084643Z
UID:8749-1464249600-1464714000@actshk.org
SUMMARY:第十一屆「科訊杯」國際大學生影視作品賽頒獎禮
DESCRIPTION:  \n \n  \n  \n  \n  \n  \n  \n  \n  \n  \n  \n  \n  \n  \n  \n  \n  \n  \n  \n  \n  \n  \n  \n  \n  \n  \n  \n  \n  \n2016年5月26日至31日，由科訊網世界有限公司與中國教育技術協會主辦、本會協辦之第十一屆「科訊杯」國際大學生影視作品賽頒獎禮在蘭州舉行，是次比賽獲得300多所高校積極參與，覆蓋全球30多個國家和地區。 \n  \n 
URL:http://actshk.org/event/%e7%ac%ac%e5%8d%81%e4%b8%80%e5%b1%86%e3%80%8c%e7%a7%91%e8%a8%8a%e6%9d%af%e3%80%8d%e5%9c%8b%e9%9a%9b%e5%a4%a7%e5%ad%b8%e7%94%9f%e5%bd%b1%e8%a6%96%e4%bd%9c%e5%93%81%e8%b3%bd%e9%a0%92%e7%8d%8e%e7%a6%ae/
ATTACH;FMTTYPE=image/jpeg:http://actshk.org/wp-content/uploads/2016/08/20160526-科訊杯-110-N-4.jpg
END:VEVENT
END:VCALENDAR